BEGIN:VCALENDAR
METHOD:PUBLISH
VERSION:2.0
PRODID:-//WoltLab GmbH//WoltLab Suite Calendar 5.4//EN
CALSCALE:GREGORIAN
X-WR-CALNAME;VALUE=TEXT:MOTORRADWELT BODENSEE  \, 2024
BEGIN:VEVENT
TRANSP:TRANSPARENT
UID:event-137@www.netbiker.de
URL:https://www.netbiker.de/calendar/event/2739-motorradwelt-bodensee-2024/
DTSTART;VALUE=DATE:20240126
DTSTAMP:20240126T000000Z
CREATED:20240126T000000Z
SUMMARY:MOTORRADWELT BODENSEE  \, 2024
DESCRIPTION:Die größte Motorradmesse [URL:https://sherides.de/motorrad-life
 style/messe-events/] Süddeutschlands heizt den Fans motorisierter Zweiräder
  vom 26. bis 28. Januar 2024 in Friedrichshafen kräftig ein.\n\nInformation
 en:\n\nhttp://www.motorradwelt-bodensee.de/
LOCATION:Neue Messe 1 \, 88046 Friedrichshafen
DTEND;VALUE=DATE:20240129
END:VEVENT
END:VCALENDAR
