BEGIN:VCALENDAR
METHOD:PUBLISH
VERSION:2.0
PRODID:-//WoltLab GmbH//WoltLab Suite Calendar 5.4//EN
CALSCALE:GREGORIAN
X-WR-CALNAME;VALUE=TEXT:Fellows Ride Rhein-Ruhr
BEGIN:VEVENT
TRANSP:OPAQUE
UID:event-146@www.netbiker.de
URL:https://www.netbiker.de/calendar/event/2748-fellows-ride-rhein-ruhr/
DTSTART:20230902T070000Z
DTSTAMP:20230902T070000Z
CREATED:20230902T070000Z
SUMMARY:Fellows Ride Rhein-Ruhr
DESCRIPTION:Der Fellows Ride kommt ins Bergische Land!\n\nInfo dazu hier: F
 ellows Ride Rhein-Ruhr [URL:https://www.fellowsride.com/events/fellows-ride
 -rhein-ruhr/]\n\nAuf ein Neues\, liebe Freunde des gepflegten Motorradfahre
 ns! Dabei sein\, Gutes tun!
DTEND:20230902T071700Z
END:VEVENT
END:VCALENDAR
