BEGIN:VCALENDAR
METHOD:PUBLISH
VERSION:2.0
PRODID:-//WoltLab GmbH//WoltLab Suite Calendar 5.4//EN
CALSCALE:GREGORIAN
X-WR-CALNAME;VALUE=TEXT:Stammtisch Kurvenkratzer Kiel
BEGIN:VEVENT
TRANSP:OPAQUE
UID:event-16@www.netbiker.de
URL:https://www.netbiker.de/calendar/event/662-stammtisch-kurvenkratzer-kie
 l/
DTSTART:20200305T180000Z
DTSTAMP:20200305T180000Z
CREATED:20200305T180000Z
SUMMARY:Stammtisch Kurvenkratzer Kiel
DTEND:20200305T210000Z
END:VEVENT
END:VCALENDAR
