BEGIN:VCALENDAR
METHOD:PUBLISH
VERSION:2.0
PRODID:-//WoltLab GmbH//WoltLab Suite Calendar 5.4//EN
CALSCALE:GREGORIAN
X-WR-CALNAME;VALUE=TEXT:Stammtisch Kurfenkratzer Kiel
BEGIN:VEVENT
TRANSP:OPAQUE
UID:event-18@www.netbiker.de
URL:https://www.netbiker.de/calendar/event/664-stammtisch-kurfenkratzer-kie
 l/
DTSTART:20200507T170000Z
DTSTAMP:20200507T170000Z
CREATED:20200507T170000Z
SUMMARY:Stammtisch Kurfenkratzer Kiel
DTEND:20200507T200000Z
END:VEVENT
END:VCALENDAR
