BEGIN:VCALENDAR
METHOD:PUBLISH
VERSION:2.0
PRODID:-//WoltLab GmbH//WoltLab Suite Calendar 5.4//EN
CALSCALE:GREGORIAN
X-WR-CALNAME;VALUE=TEXT:Levior Saisonstart 16. & 17. März 2024
BEGIN:VEVENT
TRANSP:TRANSPARENT
UID:event-182@www.netbiker.de
URL:https://www.netbiker.de/calendar/event/3053-levior-saisonstart-16-17-m%
 C3%A4rz-2024/
DTSTART;VALUE=DATE:20240316
DTSTAMP:20240316T000000Z
CREATED:20240316T000000Z
SUMMARY:Levior Saisonstart 16. & 17. März 2024
DESCRIPTION:Saisongeröffnung am Levior Weksverkaufgelände in Binau bei Mosb
 ach mit Motorradgottesdienst am Sonntag 17.03.2023 [URL:https://www.netbike
 r.de/17032023]
LOCATION:Burg-Dauchstein-Str. 5\, Binau
DTEND;VALUE=DATE:20240318
END:VEVENT
END:VCALENDAR
