BEGIN:VCALENDAR
METHOD:PUBLISH
VERSION:2.0
PRODID:-//WoltLab GmbH//WoltLab Suite Calendar 5.4//EN
CALSCALE:GREGORIAN
X-WR-CALNAME;VALUE=TEXT:RETRO CLASSICS 2024 - Weltgrößte Messe für Fahrkult
 ur
BEGIN:VEVENT
TRANSP:TRANSPARENT
UID:event-196@www.netbiker.de
URL:https://www.netbiker.de/calendar/event/3067-retro-classics-2024-weltgr%
 C3%B6%C3%9Fte-messe-f%C3%BCr-fahrkultur/
DTSTART;VALUE=DATE:20240425
DTSTAMP:20240425T000000Z
CREATED:20240425T000000Z
SUMMARY:RETRO CLASSICS 2024 - Weltgrößte Messe für Fahrkultur
DESCRIPTION:Weltgrößte Messe für Fahrkultur\n\nANGEBOTSSCHWERPUNKTE\nOLDTIM
 ER\nYOUNGTIMER\nNEO CLASSICS\nRESTAURATOREN\nMARKENCLUBS\nMARKENUNABHÄNGIGE
  CLUBS\nVERSICHERUNGEN\nPFLEGEPRODUKTE FÜR FAHRZEUGE\nERSATZTEILE\nHISTORIS
 CHE FAHRKULTUR\nBesucherprospekt:\n\nhttps://www.retro-classics.de/fileadmi
 n/retro-classics/2024/Werbung/Besucherprospekt/RETRO_CLASSICS_2024_Besucher
 prospekt.pdf\n\nDas erste Auto\, das Moped aus Jugendzeiten\, das lang gesu
 chte Prospekt und\, und\, und … Auf der RETRO CLASSICS® in Stuttgart kommen
  alle auf Ihre Kosten\, von „A“ wie Abarth über „M“ wie Manta bis „Z“ wie Z
 ündapp.
LOCATION:Messepiazza 1 | 70629 Stuttgart
DTEND;VALUE=DATE:20240429
END:VEVENT
END:VCALENDAR
