BEGIN:VCALENDAR
METHOD:PUBLISH
VERSION:2.0
PRODID:-//WoltLab GmbH//WoltLab Suite Calendar 5.4//EN
CALSCALE:GREGORIAN
X-WR-CALNAME;VALUE=TEXT:Fellows Ride Transilvania
BEGIN:VEVENT
TRANSP:TRANSPARENT
UID:event-230@www.netbiker.de
URL:https://www.netbiker.de/calendar/event/4128-fellows-ride-transilvania/
DTSTART;VALUE=DATE:20240824
DTSTAMP:20240824T000000Z
CREATED:20240824T000000Z
SUMMARY:Fellows Ride Transilvania
DESCRIPTION:Fellows Ride Transilvania\n\nDetailinformationen dazu findet Ih
 r hier [URL:https://www.fellowsride.com/events/fellows-ride-hermannstadt/].
 
LOCATION:Hermannstadt / Rumänien
DTEND;VALUE=DATE:20240825
END:VEVENT
END:VCALENDAR
