BEGIN:VCALENDAR
METHOD:PUBLISH
VERSION:2.0
PRODID:-//WoltLab GmbH//WoltLab Suite Calendar 5.4//EN
CALSCALE:GREGORIAN
X-WR-CALNAME;VALUE=TEXT:Einladung zum Motorradreisevortrag Spanien - Portug
 al
BEGIN:VEVENT
TRANSP:OPAQUE
UID:event-24@www.netbiker.de
URL:https://www.netbiker.de/calendar/event/670-einladung-zum-motorradreisev
 ortrag-spanien-portugal/
DTSTART:20200207T180000Z
DTSTAMP:20200207T180000Z
CREATED:20200207T180000Z
SUMMARY:Einladung zum Motorradreisevortrag Spanien - Portugal
DESCRIPTION:Hallo zusammen\,\n\nwir laden ein zum Reisevortrag von Dieter u
 nd Silja aus Dortmund. Sie sind leidenschaftliche Fotografen und haben unse
 r lieblingshobby\, Motorradfahren!\n\nDazu gibt es jetzt einen sehr interes
 santen Vortrag von der Spanien - Portugaltour 2019 die über 60 Tage dauerte
 .\n\nEin Biker aus unserer Gruppe hat durch Zufall die Beiden in Spanien ge
 troffen und es ist eine nette Bikerfreundschaft entstanden. Dadurch kommen 
 wir jetzt in den Genuss diesen Vortrag anbieten zu können.\n\nDer Eintritt 
 ist frei! Spenden werden jedoch gerne angenommen.\n\nWir würden uns freuen 
 Netbiker auch mal in Engelsberg begrüßen zu dürfen\n\nBis bald\n\nGottfried
  S.
LOCATION:Gasthaus Babinger\, 84549 Engelsberg
DTEND:20200207T220000Z
END:VEVENT
END:VCALENDAR
