BEGIN:VCALENDAR
METHOD:PUBLISH
VERSION:2.0
PRODID:-//WoltLab GmbH//WoltLab Suite Calendar 5.4//EN
CALSCALE:GREGORIAN
X-WR-CALNAME;VALUE=TEXT:Warm Up Trentino 2020 (abgesagt)
BEGIN:VEVENT
TRANSP:TRANSPARENT
UID:event-30@www.netbiker.de
URL:https://www.netbiker.de/calendar/event/676-warm-up-trentino-2020-abgesa
 gt/
DTSTART;VALUE=DATE:20200526
DTSTAMP:20200526T000000Z
CREATED:20200526T000000Z
SUMMARY:Warm Up Trentino 2020 (abgesagt)
DESCRIPTION:Update 12.05.2020: Absage wg\, Corona-Pandemie und damit einher
 gehenden Einschränkungen in der Reisefreiheit (Details siehe hier Diskussio
 n im Forum [URL:https://www.netbiker.de/forum/thread/17834-warm-up-2020-tre
 ntino-im-mai-wer-h%C3%A4tte-interesse-wer-w%C3%A4re-dabei/?postID=233746#po
 st233763])\n\nVom 26.05.-29.05.2020 findet wieder das WarmUp im Trentino st
 att.\n\nWas ist das?\nFür mich ist das inzwischen ein regelmäßiger Termin\,
  der zu jedem Saisonstart ansteht. Ende Mai sind die meisten Pässe schon of
 fen\, das Wetter spielt meist mit und die Gegend im Trentin ist einfach gen
 ial zum Motorradfahren und dazu noch halbwegs schnell zu erreichen.\n\nDie 
 letzten Jahre waren wir dort und meistens gibt’s auch nen Blogartikel dazu:
 \n\nWarmUp Trentino 2019 [URL:https://www.netbiker.de/blog/entry/12-warmup-
 trentino-2019-sch%C3%B6n-war-s/]\nWarmUp Trentino 2018 [URL:https://www.net
 biker.de/blog/entry/23-warmup-trentino-2018-sch%C3%B6n-war-s/]\nWarmUp Tren
 tino 2017 [URL:https://www.netbiker.de/blog/entry/45-warmup-im-trentino-alt
 ernativ-bmw-selbsthilfegruppe-gegr%C3%BCndet/]\nWarmUp Trentino 2016 (ohne 
 Artikel)\nWarmUp Trentino 2015 [URL:https://www.netbiker.de/blog/entry/89-w
 arm-up-im-trentino-hei%C3%9F-kaltes-p%C3%A4ssefahren/]\nja und vorher war i
 ch in kleinerem Kreis ein paar mal dort..  \;-) \nWas ist das Ziel des Even
 ts?\nWie jedes Jahr lautet das Ziel\, möglichst viele Pässe in die vier Tag
 e zu packen und möglichst wenig Zeit auf geraden Straßen oder Autobahnen zu
  verbringen. Die oben verlinkten Berichte vermitteln einen guten Eindruck u
 nd ich glaube das haben wir die letzten Jahre recht gut hinbekommen  \;-) \
 n\nDabei versuchen wir auch die Anreise ab der Grenze zu Österreich wenn mö
 glich schon gemeinsam kurvig zu gestalten\, haben dann zwei Tage vor Ort\, 
 klassisch mit einem Ausflug im Trentin und einem Richtung Gardasee. Ein paa
 r Pässe sind immer wieder Pflicht (werden aber trotzdem nicht langweilig) u
 nd ein paar neue Strecken streuen wir auch jedes Jahr dazwischen. Bei der R
 ückreise halten wir es wenn möglich wieder so wie bei der Hinreise und fahr
 en auch die zumindest bis Deutschland meist noch gemeinsam\n\nAuch abseits 
 der Tagestouren vor Ort haben wir abends noch Spaß und lassen die Abende ge
 rn noch gemütlich bei dem ein oder andren Glas Wein oder Bier und netten Ge
 sprächen ausklingen…\n\nGanz wichtig: Kann ich teilnehmen?\nZuerst: Grundsä
 tzlich kann jeder teilnehmen.\n\n\nAber: Da allerdings weder Du noch wir au
 f oder nach dem Tourenwochenende enttäuscht sein wollen (hier gab es sehr v
 ereinzelt leider in der Vergangenheit einmal entsprechende Erfahrungen)\, g
 ibt es natürlich ein paar Dinge\, die passen müssen\, damit wir alle gemein
 sam Spaß haben können.\n\nDazu gehört:\n\nDu bist mit sehr zügiger / flotte
 r Fahrweise unterwegs – und das nicht auf der geraden Autobahn sondern vor 
 allem eben auf Pässen und sehr kurvigen Strecken. Wer das erste mal vorhat\
 , in den Bergen Motorrad zu fahren\, ist bei uns definitiv falsch.\nDu behe
 rrscht dein Motorrad und mit ihm das Kurven-\, Pässe- und Kehren-Fahren im 
 alpinen Gelände und bist auch in der Gruppe zügig und flott unterwegs.\nDu 
 hast kein Problem damit\, morgens um neun auf’s Moped zu steigen und Abends
  um acht (wenn’s gut geht  \;-)  ) erst wieder in der Pension anzukommen (e
 ine Mittagspause und Tankstopps und vielleicht auch einen Nachmittagskaffee
  gibt es aber naütrlich\, aber es wird eben sehr\, sehr viel gefahren…).\nA
 lso: Wer hat Lust? Reserviert euch einen Platz und reserviert die Tage im K
 alender für Eure Urlaubsplanung! Jeder\, der teilnimmt\, bitte separat eine
 n Platz reservieren\, sonst stimmt die Teilnehmerliste nicht! Das Zimmer mu
 ss selbst gebucht werden\, siehe dazu weiter unten.\n\nWo findet es statt?\
 nWir sind in folgender Pension:\n\nIrma Marchesoni\n\nAlbergo Due Spade\n\n
 Piazza Municipio\,2\n\n38052 Caldonazzo (Trento)\n\ntel/fax +39 0461 723113
 \n\n  \n\nhttp://www.albergoduespade.it\n\nWichtig: Jeder bucht sein Zimmer
  selbst! Und wer nicht kommen kann\, der storniert selbst und regelt alles 
 Notwendige selbst mit der Pension!\n\nBezüglich der Kosten haben wir etwas 
 Rabatt bekommen. Wer mit dem Stichwort “Netbiker” bucht\, der erhält die Zi
 mmer zu folgenden Konditionen:\n\nHalbpension im Doppelzimmer: 54 € / Nacht
 \nHalbpension im Einzelzimmer: 57 € / Nacht (die sind leider aber schon aus
 gebucht...)\nHalbpension im Doppelzimmer zur Einzelnutzung: 80€ / Nacht\n12
  Zimmer sind aktuell noch für uns freigehalten bis März. Beeilt Euch also m
 it dem Buchen! Im Idealfall schließt ihr euch zusammen und nutzt die DZ gem
 einsam\, dann passen mehr rein  \;-) \n\nAlternativ gibt es in Caldonazzo i
 n näherer Umgebung noch weitere Unterkünfte\, es müssen ja nicht alle im gl
 eichen Haus sein.\n\nDie Hälfte des Hauses\, also etwa zehn Zimmer\, sind b
 is März reserviert. Aber dennoch: Wer schnell bucht\, hat sicher ein Zimmer
 …\n\nIch freu mich auf eine klasse Tour mit euch!\n\n\nBitte gebt als Komme
 ntar hier mit an\, falls ihr woanders gebucht habt.\n\nWie geht's nach Anme
 ldung weiter?\nIch melde mich dann Anfang Mai bei euch allen und mache eine
  Gruppenkonversation auf\, in der wir alles Weitere besprechen.
LOCATION:Caldonazzo
DTEND;VALUE=DATE:20200530
STATUS:CANCELLED
END:VEVENT
END:VCALENDAR
