BEGIN:VCALENDAR
METHOD:PUBLISH
VERSION:2.0
PRODID:-//WoltLab GmbH//WoltLab Suite Calendar 5.4//EN
CALSCALE:GREGORIAN
X-WR-CALNAME;VALUE=TEXT:Fränkische Seen
BEGIN:VEVENT
TRANSP:OPAQUE
UID:event-306@www.netbiker.de
URL:https://www.netbiker.de/calendar/event/4222-fr%C3%A4nkische-seen/
DTSTART:20250309T083000Z
DTSTAMP:20250309T083000Z
CREATED:20250309T083000Z
SUMMARY:Fränkische Seen
DESCRIPTION:Termin: Sonntag 09.03.2025\nAbfahrt: 9:30 Uhr\nStreckenlänge: 2
 80 Km\nStrecke: Hahnenkammsee\, Altmühlsee\, Brombachsee\nGeschwindigkeit: 
 normal\nTeilehmer: 6 - 7
LOCATION:Start Total Tankstelle Nordendorf (B2)
DTEND:20250309T160000Z
END:VEVENT
END:VCALENDAR
