BEGIN:VCALENDAR
METHOD:PUBLISH
VERSION:2.0
PRODID:-//WoltLab GmbH//WoltLab Suite Calendar 5.4//EN
CALSCALE:GREGORIAN
X-WR-CALNAME;VALUE=TEXT:Stammtisch Islekbiker
BEGIN:VEVENT
TRANSP:OPAQUE
UID:event-33@www.netbiker.de
URL:https://www.netbiker.de/calendar/event/679-stammtisch-islekbiker/
DTSTART:20200208T180000Z
DTSTAMP:20200208T180000Z
CREATED:20200208T180000Z
SUMMARY:Stammtisch Islekbiker
DTEND:20200208T220000Z
END:VEVENT
END:VCALENDAR
