BEGIN:VCALENDAR
METHOD:PUBLISH
VERSION:2.0
PRODID:-//WoltLab GmbH//WoltLab Suite Calendar 5.4//EN
CALSCALE:GREGORIAN
X-WR-CALNAME;VALUE=TEXT:VERSCHOBEN!!! Franz. Alpen (Gap) zu Fronleichnam
BEGIN:VEVENT
TRANSP:OPAQUE
UID:event-34@www.netbiker.de
URL:https://www.netbiker.de/calendar/event/680-verschoben-franz-alpen-gap-z
 u-fronleichnam/
DTSTART:20200606T060000Z
DTSTAMP:20200606T060000Z
CREATED:20200606T060000Z
SUMMARY:VERSCHOBEN!!! Franz. Alpen (Gap) zu Fronleichnam
DESCRIPTION:Zu Fronleichnam planen wir eine Tour in die französischen Alpen
  rund um Gap.\n\nKernzeit der Tour ist vom 6.-12.6.2020\n\nBasisquartier be
 findet sich auf dem Campingplatz Alpes Dauphine.\n\nVon dort lassen sich vi
 ele interessante Ziele anfahren.  :thumbup: \n\nBuchung ist unter http://al
 pesdauphine.com/en/ möglich.   8) \n\nZur Diskussionsrunde: Gap / Frankreic
 h geplant? [URL:https://www.netbiker.de/forum/thread/17824-gap-frankreich-g
 eplant/]
LOCATION:Route Napoléon 05000 GAP France
DTEND:20200612T080000Z
STATUS:CANCELLED
END:VEVENT
END:VCALENDAR
