BEGIN:VCALENDAR
METHOD:PUBLISH
VERSION:2.0
PRODID:-//WoltLab GmbH//WoltLab Suite Calendar 5.4//EN
CALSCALE:GREGORIAN
X-WR-CALNAME;VALUE=TEXT:Hamburger Motorrad Tage
BEGIN:VEVENT
TRANSP:TRANSPARENT
UID:event-367@www.netbiker.de
URL:https://www.netbiker.de/calendar/event/6451-hamburger-motorrad-tage/
DTSTART;VALUE=DATE:20260227
DTSTAMP:20260227T000000Z
CREATED:20260227T000000Z
SUMMARY:Hamburger Motorrad Tage
DESCRIPTION:HMT Hamburg | Motorradmessen.de [URL:https://motorradmessen.de/
 hmt-hamburg/]
DTEND;VALUE=DATE:20260302
END:VEVENT
END:VCALENDAR
