BEGIN:VCALENDAR
METHOD:PUBLISH
VERSION:2.0
PRODID:-//WoltLab GmbH//WoltLab Suite Calendar 5.4//EN
CALSCALE:GREGORIAN
X-WR-CALNAME;VALUE=TEXT:Island Motorrad Rundtour
BEGIN:VEVENT
TRANSP:OPAQUE
UID:event-407@www.netbiker.de
URL:https://www.netbiker.de/calendar/event/6491-island-motorrad-rundtour/
DTSTART:20260625T060000Z
DTSTAMP:20260625T060000Z
CREATED:20260625T060000Z
SUMMARY:Island Motorrad Rundtour
DESCRIPTION:Vom 25.06. bis zum 16.07. bin ich mit einer Africa Twin auf Isl
 and unterwegs. Gern können sich Selbstfahrer anschließen. Mein Plan ist übe
 rwiegend die Übernachtung im Zelt und evtl. Fahrten auf einigen F-Roads - k
 ommt ganz auf das Wetter an. Alles kann\, nichts muss 8) \n\nZu meiner Pers
 on: männlich\, 62 Jahre\, verheiratet\, Skandinavienfan\, fährt Africa Twin
  750 und KTM 990 sm\n\nDies ist keine geführte Tour. Kein finanzielles Inte
 resse. Jeder fährt auf eigenes Risiko.\n\nIch freue mich von euch zu hören.
 \n\nVG\n\nKlaus
DTEND:20260716T070000Z
END:VEVENT
END:VCALENDAR
