BEGIN:VCALENDAR
METHOD:PUBLISH
VERSION:2.0
PRODID:-//WoltLab GmbH//WoltLab Suite Calendar 5.4//EN
CALSCALE:GREGORIAN
X-WR-CALNAME;VALUE=TEXT:Märzstammtisch in Bensheim im Blauen Aff
BEGIN:VEVENT
TRANSP:OPAQUE
UID:event-41@www.netbiker.de
URL:https://www.netbiker.de/calendar/event/1900-m%C3%A4rzstammtisch-in-bens
 heim-im-blauen-aff/
DTSTART:20200320T180000Z
DTSTAMP:20200320T180000Z
CREATED:20200320T180000Z
SUMMARY:Märzstammtisch in Bensheim im Blauen Aff
DESCRIPTION:Hallo Stammtischler\,\n\nzum letzten Stammtisch der Wintersaiso
 n 2019/2020 treffen wir uns im Blauen Aff in Bensheim:\n\nFreitag\, 20.3.20
 \, ab 19.00 Uhr \n\nBlauer Aff [URL:https://blauer-aff.de/]\n\nKappengasse 
 2\, 64625 Bensheim\n\nIm Blauen Aff ist immer viel los\, deshalb bitte ich 
 euch\, mir bis spätestens Dienstag\, 17.3. bescheid zu geben\, ob ihr dabei
  seid\, damit ich die aktuell 12 reservierten Plätze bestätigen oder erweit
 ern kann.\n\nBis denne  \n\nSusi
LOCATION:64625 Bensheim
DTEND:20200320T225900Z
STATUS:CANCELLED
END:VEVENT
END:VCALENDAR
