BEGIN:VCALENDAR
METHOD:PUBLISH
VERSION:2.0
PRODID:-//WoltLab GmbH//WoltLab Suite Calendar 5.4//EN
CALSCALE:GREGORIAN
X-WR-CALNAME;VALUE=TEXT:Stammtisch Köln-Bonn am Samstag den 28. März 2020 u
 m 19 Uhr
BEGIN:VEVENT
TRANSP:OPAQUE
UID:event-43@www.netbiker.de
URL:https://www.netbiker.de/calendar/event/1902-stammtisch-k%C3%B6ln-bonn-a
 m-samstag-den-28-m%C3%A4rz-2020-um-19-uhr/
DTSTART:20200328T180000Z
DTSTAMP:20200328T180000Z
CREATED:20200328T180000Z
SUMMARY:Stammtisch Köln-Bonn am Samstag den 28. März 2020 um 19 Uhr
DESCRIPTION:Hallo Zusammen\,\n\nam Samstagabend den 28. März 2020 um 19 Uhr
  findet der Stammtisch im Restaurant Meigermühle\, Meigermühle 1 in 53797 L
 ohmar wieder statt.\n\nIch freue mich auf viele Zusagen\,\n\nLiebe Grüße\n\
 nRalf
LOCATION:Restaurant \"Die Meigermühle\"\,  Meigermühle 1\, D-53797 Lohmar
DTEND:20200328T210000Z
END:VEVENT
END:VCALENDAR
