BEGIN:VCALENDAR
METHOD:PUBLISH
VERSION:2.0
PRODID:-//WoltLab GmbH//WoltLab Suite Calendar 5.4//EN
CALSCALE:GREGORIAN
X-WR-CALNAME;VALUE=TEXT:Demo gegen Fahrverbote für Motorräder
BEGIN:VEVENT
TRANSP:OPAQUE
UID:event-46@www.netbiker.de
URL:https://www.netbiker.de/calendar/event/1905-demo-gegen-fahrverbote-f%C3
 %BCr-motorr%C3%A4der/
DTSTART:20200704T120000Z
DTSTAMP:20200704T120000Z
CREATED:20200704T120000Z
SUMMARY:Demo gegen Fahrverbote für Motorräder
DESCRIPTION:[URL:https://addpics.com/i/pp2-4o-67f7.jpg]
LOCATION:Hamburg -  Glacischaussee
DTEND:20200704T150000Z
END:VEVENT
END:VCALENDAR
