BEGIN:VCALENDAR
METHOD:PUBLISH
VERSION:2.0
PRODID:-//WoltLab GmbH//WoltLab Suite Calendar 5.4//EN
CALSCALE:GREGORIAN
X-WR-CALNAME;VALUE=TEXT:4. Essener Motorradgottesdienst Open Air
BEGIN:VEVENT
TRANSP:OPAQUE
UID:event-65@www.netbiker.de
URL:https://www.netbiker.de/calendar/event/1924-4-essener-motorradgottesdie
 nst-open-air/
DTSTART:20210822T080000Z
DTSTAMP:20210822T080000Z
CREATED:20210822T080000Z
SUMMARY:4. Essener Motorradgottesdienst Open Air
DESCRIPTION:4. Essener Motorradgottesdienst – Open Air mit der ‘‘Jordan  We
 lls Band‘‘\n\nAm Sonntag\, den 22. August 2021\, um 10:00 Uhr laden  christ
 liche Motorradgruppen aus Essen zum 4. gemeinsamen ökumenischen  Motorradgo
 ttesdienst ein. Der Gottesdienst findet Open Air am Weigle-Haus  statt. Hoh
 enburgstr. 96\, 45128 Essen. Im Anschluss gibt es beim Grillen Gelegenheit 
  für Benzingespräche\, zum Fachsimpeln und Kontakte knüpfen. Etwa 100 Biker
   erwarten die Mogo-Organisatoren. Von nah und fern kommen die Zweiradfreun
 de mit  kleinen und großen Maschinen\, auf Hochglanz poliert und chromblink
 end. Die  ''Jordan Wells Band'' wird den Gottesdienst und das anschließende
  Beisammensein  mit Livemusik begleiten. \n\nEs gelten die aktuellen Bestim
 mungen zur Corona-Schutzverordnung NRW!\n\nFacebook: Essener Motorradgottes
 dienst\n\nKommt vorbei! Wir freuen uns auf euch!
LOCATION:Weigle-Haus\, Hohenburgstr. 96\, 45128 Essen
DTEND:20210822T120000Z
END:VEVENT
END:VCALENDAR
