BEGIN:VCALENDAR
METHOD:PUBLISH
VERSION:2.0
PRODID:-//WoltLab GmbH//WoltLab Suite Calendar 5.4//EN
CALSCALE:GREGORIAN
X-WR-CALNAME;VALUE=TEXT:\"Oh... HH\" - Ost Hamburg Ausfahrt am 2021-07-18
BEGIN:VEVENT
TRANSP:OPAQUE
UID:event-66@www.netbiker.de
URL:https://www.netbiker.de/calendar/event/1925-oh-hh-ost-hamburg-ausfahrt-
 am-2021-07-18/
DTSTART:20210718T090000Z
DTSTAMP:20210718T090000Z
CREATED:20210718T090000Z
SUMMARY:\"Oh... HH\" - Ost Hamburg Ausfahrt am 2021-07-18
DESCRIPTION:Hamburger Motorrad Fahrer/Innen Treffen für eine Gruppen Ausfah
 rt.\n\nIch mag Motorrad Gruppenfahrten sehr gerne.\n\nIch führe Touren oder
  bin Lumpen Sammler oder ich Fahre mit.\n\nHier biete ich eine Tour von Ham
 burg nach Hamburg an.\n\nMit ein paar Kurven\, chilligen zwischen stopp's w
 o es Eis\, Kuchen oder andere\n\nDinge gibt die ich ggf von der Gruppe aufg
 reifen kann.\n\nDas Ziel ist:\n\nGemeinsames Fahren. Gruppenfahrt Training.
 \n\nKurven und Natur erleben. Ein grinsen in das Gesicht zu bekommen.\n\nWo
 hin:\n\nKann am Fahrtag gemeinsam besprochen werden. In alle Richtungen kan
 n ich\n\netwas anbieten.\n\nGefahren wird nach Gruppenfahr-Regeln die am Fa
 hrtag noch einmal geklärt werden\n\num Klarheit zu haben.\n\nRechtliches: J
 eder Fährt auf eigene Verantwortung und gemäß der StVO.\n\nWer nicht mithal
 ten kann bleibt stehen um dann zu klären wie verfahren wird.\n\nAnfänger si
 nd gern gesehen aber keine ängstlichen Fahrer/Innen die es mal\n\nausprobie
 ren wollen.\n\nEin wenig Erfahrung muss sein für eine Gruppenfahrt!\n\nLand
 straße 100Kmh sollten möglich sein ohne einen deutlichen Abstand zum\n\nVor
 dermann zu erzeugen.\n\nGruppenfahrten sind sehr anspruchsvoll wenn man es 
 nicht kennt!\n\nAber es macht spass. Und man kann gemeinsam etwas erleben.\
 n\nReise Ziel und Möglichkeiten:\n\nIch fahre sehr gern Richtung Osten. Dor
 t gibt es immer noch sehr viele\n\nunentdeckte Teile die im Navi immer noch
  einen Erinnerungspunkt Wert sind.\n\nSei es eine Bademöglichkeit\, ein bes
 onderer Kuchen\, ein untypischer Eindruck\n\nder Natur. Allerdings ist dort
  auch nicht jede Strecke perfekt für ein Motorrad.\n\nDer Norden (z.B. Plön
 ) ist überlaufen aber kein NO GO! Besten Strecken und\n\nRand strecken führ
 en dort hin.\n\nDaher: Diesen Treffen soll Interessen und Kontakte fördern 
 bei einer gemeinsamen\n\nAusfahrt.\n\nOh Ha -> Oh HH.\n\nTreffpunkt: ~ 11 U
 hr Tankstelle: HH\, Nordschleswiger Str. 91eck\nhttps://goo.gl/maps/gveoo8p
 mXfSDqz7c8\n\nAbfahrt ~11:15Uhr vollgetankt!\n\nIch freue mich auf euch!\n\
 n\n\nVG Florian
LOCATION:https://goo.gl/maps/gveoo8pmXfSDqz7c8
DTEND:20210718T170000Z
END:VEVENT
END:VCALENDAR
