BEGIN:VCALENDAR
METHOD:PUBLISH
VERSION:2.0
PRODID:-//WoltLab GmbH//WoltLab Suite Calendar 5.4//EN
CALSCALE:GREGORIAN
X-WR-CALNAME;VALUE=TEXT:MOTORRADWELT BODENSEE 2020
BEGIN:VEVENT
TRANSP:OPAQUE
UID:event-8@www.netbiker.de
URL:https://www.netbiker.de/calendar/event/654-motorradwelt-bodensee-2020/
DTSTART:20200124T100000Z
DTSTAMP:20200124T100000Z
CREATED:20200124T100000Z
SUMMARY:MOTORRADWELT BODENSEE 2020
DESCRIPTION:Von Freitag\, dem 24. Januar bis Sonntag\, dem 26. Januar ist i
 n Friedrichshafen wieder die\n\nMOTORRADWELT BODENSEE [URL:https://www.moto
 rradwelt-bodensee.de/]\n\nAdresse:\n\nMesse Friedrichshafen\n\nNeue Messe 1
 \n\n88046 Friedrichshafen\n\nÖffnungszeiten\n\nFreitag von 11:00 bis 19:00 
 Uhr\n\nSamstag von 10:00 bis 18:00 Uhr\n\nSonntag von 10:00 bis 17:00 Uhr
LOCATION:Messe Friedrichshafen\, Neue Messe 1\, 88046 Friedrichshafen
DTEND:20200124T180000Z
END:VEVENT
END:VCALENDAR
