BEGIN:VCALENDAR
METHOD:PUBLISH
VERSION:2.0
PRODID:-//WoltLab GmbH//WoltLab Suite Calendar 5.4//EN
CALSCALE:GREGORIAN
X-WR-CALNAME;VALUE=TEXT:Stammtisch der BahnBikerBerlin
BEGIN:VEVENT
TRANSP:OPAQUE
UID:event-87@www.netbiker.de
URL:https://www.netbiker.de/calendar/event/2336-stammtisch-der-bahnbikerber
 lin/
DTSTART:20220707T160000Z
DTSTAMP:20220707T160000Z
CREATED:20220707T160000Z
SUMMARY:Stammtisch der BahnBikerBerlin
LOCATION:Mauersegler Berlin\, Bernauer Str. 63-64\, 13355 Berlin
DTEND:20220707T190000Z
END:VEVENT
END:VCALENDAR
